BEGIN:VCALENDAR
VERSION:2.0
PRODID:icalendar-ruby
CALSCALE:GREGORIAN
METHOD:PUBLISH
BEGIN:VEVENT
DTSTAMP:20260421T151143Z
UID:8-840452@visitmbc.org
DTSTART:20261231T010000Z
DTEND:20261231T020000Z
CLASS:PUBLIC
CREATED:20260421T085853
DESCRIPTION:Macedonia Baptist Church is known world wide as a praying churc
 h\, and we meet at this time each week to prayer over specific requests th
 at are on the hearts of our people.\nWe then spend time digging deeper int
 o the truths of the the Word of God concerning topics that are fresh and r
 elevant to our times and lives.\nCome join us!
LAST-MODIFIED:20260421T085853
LOCATION:
SUMMARY:Prayer Meeting and Bible Study
URL;VALUE=URI:https://www.visitmbc.org/events/prayer-meeting-and-bible-stud
 y/2026-12-30
ATTACH;FILENAME=pexels-wendy-van-zyl-7076710.jpg;FMTTYPE=image/jpeg:https:/
 /dq5pwpg1q8ru0.cloudfront.net/2022/04/01/10/04/37/69c5fdc1-be4c-4d17-8239-
 5f5ac53344dd/pexels-wendy-van-zyl-7076710.jpg
END:VEVENT
END:VCALENDAR
